BEGIN:VCALENDAR
VERSION:2.0
PRODID:-//1Up Communications - ECPv4.6.18//NONSGML v1.0//EN
CALSCALE:GREGORIAN
METHOD:PUBLISH
X-WR-CALNAME:1Up Communications
X-ORIGINAL-URL:https://1upcommunications.com.au
X-WR-CALDESC:Events for 1Up Communications
BEGIN:VEVENT
DTSTART;TZID=Australia/Brisbane:20180314T113000
DTEND;TZID=Australia/Brisbane:20180314T123000
DTSTAMP:20210227T013054
CREATED:20180311T051702Z
LAST-MODIFIED:20180311T140503Z
UID:1773-1521027000-1521030600@1upcommunications.com.au
SUMMARY:Brand Crisis: A Workshop for Clubs
DESCRIPTION:\nBrand is everything in today’s competitive market and protecting it is just as important and as growing it. \nDemetri Hughes from 1Up Communications is a brand expert and when it comes to protecting your brand\, he is the one you want on your side. Clubs are engaged with many activities\, not just within the Club but the wider community and this can lead to brand damage if not managed well. \nWhen your name is on the back of a jersey\, that player’s behaviour will affect your brand\, good or bad. It is important as a Club that you are well aware of any adverse damage against your brand and how to protect against this. This 1 hour workshop will take you through the do’s and don’t of brand crisis. \n  \nSchedule for Attendees:\n10am: Morning Tea & Registration \n10:30am: AGM (members only) \n11:30am: Workshop \n1pm: Lunch \n  \n\n
URL:https://1upcommunications.com.au/event/brand-crisis-workshop-presentation/
LOCATION:28a Alamein Street\, Beenleigh\, QLD\, 4207\, Australia
CATEGORIES:Workshop
END:VEVENT
END:VCALENDAR