BEGIN:VCALENDAR
VERSION:2.0
PRODID:-//1Up Communications - ECPv4.6.18//NONSGML v1.0//EN
CALSCALE:GREGORIAN
METHOD:PUBLISH
X-WR-CALNAME:1Up Communications
X-ORIGINAL-URL:https://1upcommunications.com.au
X-WR-CALDESC:Events for 1Up Communications
BEGIN:VEVENT
DTSTART;TZID=Australia/Brisbane:20171017T090000
DTEND;TZID=Australia/Brisbane:20171017T100000
DTSTAMP:20210227T013239
CREATED:20170804T044734Z
LAST-MODIFIED:20170804T224153Z
UID:1189-1508230800-1508234400@1upcommunications.com.au
SUMMARY:CMAA Marketing Summit - Sydney
DESCRIPTION:Grow & Protect Your Club Brand \nHas brand building been sacrificed in the name of digital tactics? \nAre marketers too concerned with push messaging than pulling in the hearts and minds of customers? \nHow is a brand grown and nurtured in a digital environment; what are the best examples\, and what can be learned from them? \nTo register\nPlease visit the Club Managers’ Association Australia website or contact Zoe Clegg directly for more information. \n  \n\n
URL:https://1upcommunications.com.au/event/cmaa-marketing-summit-sydney/
LOCATION:8 Greenfield Parade\, Sydney\, NSW\, 2000\, Australia
CATEGORIES:Seminars
ATTACH;FMTTYPE=image/jpeg:https://1upcommunications.com.au/wp-content/uploads/2016/11/CMAA-Event-2.jpg
END:VEVENT
END:VCALENDAR