BEGIN:VCALENDAR
VERSION:2.0
PRODID:-//1Up Communications - ECPv4.6.18//NONSGML v1.0//EN
CALSCALE:GREGORIAN
METHOD:PUBLISH
X-WR-CALNAME:1Up Communications
X-ORIGINAL-URL:https://1upcommunications.com.au
X-WR-CALDESC:Events for 1Up Communications
BEGIN:VEVENT
DTSTART;TZID=Australia/Brisbane:20200318T080000
DTEND;TZID=Australia/Brisbane:20200531T170000
DTSTAMP:20210227T010250
CREATED:20200317T164241Z
LAST-MODIFIED:20200317T164241Z
UID:2460-1584518400-1590944400@1upcommunications.com.au
SUMMARY:Coronavirus (COVID-19)
DESCRIPTION:All events are temporarily suspended owing to Coronavirus (COVID-19). \nAs concerns about the spread of COVID-19 increase in light of the advice from the Australian Government regarding large scale events\, we’re reaching out to industry to let you know that we have put in place precautionary measures to preserve your health and safety. \nFor this reason\, we have made the decision to reformat all live events as online events via virtual classroom until further notice. We are also offering flexibility with training or event re-scheduling due to COVID-19 related absences. \nWe also encourage you to keep up to date with information published by the Australian Government Department of Health: www.health.gov.au/ \n
URL:https://1upcommunications.com.au/event/coronavirus-covid-19/
END:VEVENT
END:VCALENDAR