BEGIN:VCALENDAR
VERSION:2.0
PRODID:-//1Up Communications - ECPv4.6.18//NONSGML v1.0//EN
CALSCALE:GREGORIAN
METHOD:PUBLISH
X-WR-CALNAME:1Up Communications
X-ORIGINAL-URL:https://1upcommunications.com.au
X-WR-CALDESC:Events for 1Up Communications
BEGIN:VEVENT
DTSTART;TZID=Australia/Brisbane:20170718T070000
DTEND;TZID=Australia/Brisbane:20170718T090000
DTSTAMP:20210227T013840
CREATED:20170802T115530Z
LAST-MODIFIED:20171102T051806Z
UID:1067-1500361200-1500368400@1upcommunications.com.au
SUMMARY:UQBS Executive Education Breakfast Series
DESCRIPTION:Personal Branding in the Digital Age for C-suite Executives\nHow does your personal brand measure up online? \nWhat do your peers\, other businesses\, and recruiters find when they Google you? \nJoin us for the first of UQ Business Schools’ Senior Executives Breakfast series\, Personal Branding in the Digital Age\, on 18 July 2017. This event series explores the latest trends and topics that impact leading senior executives. \nPersonal branding has become increasingly important. Your business brand is about much more than your business in isolation – it’s personal. As a CEO or senior executive\, your personal identity\, and your business’ people and culture speaks volumes about its values\, vision\, and purpose. \nWhat’s more\, your personal brand has never been more transparent and accessible to stakeholders\, with the advent of digital and social media\, and the proliferation of online business\, marketing\, and communication. \nCreating and maintaining your online personal brand is imperative for CEOs and senior executives. \nYour brand should capture and promote your unique attributes and strengths on the right platforms to engage your key internal and external stakeholders. Getting this right creates an opportunity to champion and leverage your qualities for the benefit of both your personal image and your organisation’s reputation. \nDelivered by Dr Nicole Hartley from UQ Business School\, Richard Triggs from Arete Executive\, and Demetri Hughes from 1Up Communications\, this interactive event will explore what it means to establish a powerful personal brand\, and how you can ensure your brand is distinct and authentic. \nYou will gain insights into some of the digital tools that you can use to best communicate your personal brand\, and discuss best practices and the key pitfalls executives can encounter. \n\n
URL:https://1upcommunications.com.au/event/uqbs-executive-education-breakfast-series-2/
LOCATION:Level 19\, central Plaza one\, 345 Queen St\, Brisbane\, QLD\, 4000\, Australia
CATEGORIES:Seminars
ATTACH;FMTTYPE=image/jpeg:https://1upcommunications.com.au/wp-content/uploads/2016/11/Boardroom.jpg
END:VEVENT
END:VCALENDAR